BEGIN:VCALENDAR
VERSION:2.0
PRODID:-//Trachtenmusikkapelle Brunn - ECPv4.9.9//NONSGML v1.0//EN
CALSCALE:GREGORIAN
METHOD:PUBLISH
X-WR-CALNAME:Trachtenmusikkapelle Brunn
X-ORIGINAL-URL:http://www.tmk-brunn.at
X-WR-CALDESC:Veranstaltungen im Trachtenmusikkapelle Brunn
BEGIN:VTIMEZONE
TZID:Europe/Berlin
BEGIN:DAYLIGHT
TZOFFSETFROM:+0100
TZOFFSETTO:+0200
TZNAME:CEST
DTSTART:20240331T010000
END:DAYLIGHT
BEGIN:STANDARD
TZOFFSETFROM:+0200
TZOFFSETTO:+0100
TZNAME:CET
DTSTART:20241027T010000
END:STANDARD
END:VTIMEZONE
BEGIN:VEVENT
DTSTART;TZID=Europe/Berlin:20241224T230000
DTEND;TZID=Europe/Berlin:20241224T233000
DTSTAMP:20260419T143404
CREATED:20191121T222135Z
LAST-MODIFIED:20241105T103256Z
UID:716-1735081200-1735083000@www.tmk-brunn.at
SUMMARY:Turmblasen zu Weihnachten
DESCRIPTION:Nach der Christmette in der Brunner Pfarrkirche spielt ein Bläserensemble der Trachtenmusikkapelle stimmungsvolle Weihnachtslieder vom Balkon des Pfarrheimes. \nEin wunderbarer Ausklang des Heiligen Abends. \n
URL:http://www.tmk-brunn.at/event/turmblasen-zu-weihnachten/
LOCATION:Pfarrkirche Brunn am Gebirge\, Kirchengasse 9\, Brunn am Gebirge\, 2345\, Österreich
CATEGORIES:Kirche
END:VEVENT
END:VCALENDAR